BEGIN:VCALENDAR
VERSION:2.0
PRODID:-//一般社団法人徳之島観光連盟 - ECPv4.6.21//NONSGML v1.0//EN
CALSCALE:GREGORIAN
METHOD:PUBLISH
X-WR-CALNAME:一般社団法人徳之島観光連盟
X-ORIGINAL-URL:http://www.tokunoshima-kanko.com
X-WR-CALDESC:Events for 一般社団法人徳之島観光連盟
BEGIN:VEVENT
DTSTART;TZID=Asia/Tokyo:20190630T130000
DTEND;TZID=Asia/Tokyo:20190630T130000
DTSTAMP:20260425T110554
CREATED:20190608T043710Z
LAST-MODIFIED:20190608T043723Z
UID:11165-1561899600-1561899600@www.tokunoshima-kanko.com
SUMMARY:第３４回島口島唄祭典
DESCRIPTION:
URL:http://www.tokunoshima-kanko.com/event/%e7%ac%ac%ef%bc%93%ef%bc%94%e5%9b%9e%e5%b3%b6%e5%8f%a3%e5%b3%b6%e5%94%84%e7%a5%ad/
LOCATION:徳之島町亀津\, 大島郡\, 鹿児島県\, 891-7101\, Japan
END:VEVENT
END:VCALENDAR