BEGIN:VCALENDAR
VERSION:2.0
PRODID:-//一般社団法人徳之島観光連盟 - ECPv4.6.21//NONSGML v1.0//EN
CALSCALE:GREGORIAN
METHOD:PUBLISH
X-WR-CALNAME:一般社団法人徳之島観光連盟
X-ORIGINAL-URL:http://www.tokunoshima-kanko.com
X-WR-CALDESC:Events for 一般社団法人徳之島観光連盟
BEGIN:VEVENT
DTSTART;TZID=Asia/Tokyo:20181026T183000
DTEND;TZID=Asia/Tokyo:20181026T203000
DTSTAMP:20260425T024248
CREATED:20181008T054414Z
LAST-MODIFIED:20181008T054414Z
UID:8941-1540578600-1540585800@www.tokunoshima-kanko.com
SUMMARY:稲川淳二の怪談ナイト
DESCRIPTION: \n前売り4500円　当日4700円 \n
URL:http://www.tokunoshima-kanko.com/event/%e7%a8%b2%e5%b7%9d%e6%b7%b3%e4%ba%8c%e3%81%ae%e6%80%aa%e8%ab%87%e3%83%8a%e3%82%a4%e3%83%88/
LOCATION:徳之島町亀津7673\, 大島郡\, 鹿児島県\, 891-7101\, Japan
END:VEVENT
END:VCALENDAR