BEGIN:VCALENDAR
VERSION:2.0
PRODID:-//一般社団法人徳之島観光連盟 - ECPv4.6.21//NONSGML v1.0//EN
CALSCALE:GREGORIAN
METHOD:PUBLISH
X-WR-CALNAME:一般社団法人徳之島観光連盟
X-ORIGINAL-URL:http://www.tokunoshima-kanko.com
X-WR-CALDESC:Events for 一般社団法人徳之島観光連盟
BEGIN:VEVENT
DTSTART;TZID=Asia/Tokyo:20180602T090000
DTEND;TZID=Asia/Tokyo:20180602T090000
DTSTAMP:20260425T144134
CREATED:20180519T060420Z
LAST-MODIFIED:20180519T061645Z
UID:7520-1527930000-1527930000@www.tokunoshima-kanko.com
SUMMARY:県交歓大会南三島予選　軟式野球
DESCRIPTION:
URL:http://www.tokunoshima-kanko.com/event/%e7%9c%8c%e4%ba%a4%e6%ad%93%e5%a4%a7%e4%bc%9a%e5%8d%97%e4%b8%89%e5%b3%b6%e4%ba%88%e9%81%b8%e3%80%80%e8%bb%9f%e5%bc%8f%e9%87%8e%e7%90%83/
LOCATION:徳之島町徳和瀬\, 大島郡\, 鹿児島県\, 891-7111\, Japan
END:VEVENT
END:VCALENDAR