BEGIN:VCALENDAR
VERSION:2.0
PRODID:-//一般社団法人徳之島観光連盟 - ECPv4.6.21//NONSGML v1.0//EN
CALSCALE:GREGORIAN
METHOD:PUBLISH
X-WR-CALNAME:一般社団法人徳之島観光連盟
X-ORIGINAL-URL:http://www.tokunoshima-kanko.com
X-WR-CALDESC:Events for 一般社団法人徳之島観光連盟
BEGIN:VEVENT
DTSTART;TZID=Asia/Tokyo:20190528T183000
DTEND;TZID=Asia/Tokyo:20190528T203000
DTSTAMP:20260423T173735
CREATED:20190511T042031Z
LAST-MODIFIED:20190512T033756Z
UID:11043-1559068200-1559075400@www.tokunoshima-kanko.com
SUMMARY:徳田虎雄顕彰記念館開館一周年記念「田中利幸の真心コンサート＆美味しいレセプション」
DESCRIPTION: \n※開場午後6：00 \n
URL:http://www.tokunoshima-kanko.com/event/%e7%94%b0%e4%b8%ad%e5%88%a9%e5%b9%b8%e3%82%b3%e3%83%b3%e3%82%b5%e3%83%bc%e3%83%88%e3%80%80%ef%bc%88%e5%be%b3%e7%94%b0%e8%a8%98%e5%bf%b5%e9%a4%a8%ef%bc%89/
LOCATION:徳之島町亀徳２６９１
END:VEVENT
END:VCALENDAR