BEGIN:VCALENDAR
VERSION:2.0
PRODID:-//一般社団法人徳之島観光連盟 - ECPv4.6.21//NONSGML v1.0//EN
CALSCALE:GREGORIAN
METHOD:PUBLISH
X-WR-CALNAME:一般社団法人徳之島観光連盟
X-ORIGINAL-URL:http://www.tokunoshima-kanko.com
X-WR-CALDESC:Events for 一般社団法人徳之島観光連盟
BEGIN:VEVENT
DTSTART;TZID=Asia/Tokyo:20190120T130000
DTEND;TZID=Asia/Tokyo:20190120T160000
DTSTAMP:20260424T123635
CREATED:20181217T053033Z
LAST-MODIFIED:20181217T053033Z
UID:9732-1547989200-1548000000@www.tokunoshima-kanko.com
SUMMARY:生涯学習フェア
DESCRIPTION:展示9：00～17：00　舞台発表13：00～16：00 \n
URL:http://www.tokunoshima-kanko.com/event/%e7%94%9f%e6%b6%af%e5%ad%a6%e7%bf%92%e3%83%95%e3%82%a7%e3%82%a2/
LOCATION:徳之島町亀津\, 大島郡\, 鹿児島県\, 891-7101\, Japan
END:VEVENT
END:VCALENDAR