BEGIN:VCALENDAR
VERSION:2.0
PRODID:-//一般社団法人徳之島観光連盟 - ECPv4.6.21//NONSGML v1.0//EN
CALSCALE:GREGORIAN
METHOD:PUBLISH
X-WR-CALNAME:一般社団法人徳之島観光連盟
X-ORIGINAL-URL:http://www.tokunoshima-kanko.com
X-WR-CALDESC:Events for 一般社団法人徳之島観光連盟
BEGIN:VEVENT
DTSTART;TZID=Asia/Tokyo:20191222T100000
DTEND;TZID=Asia/Tokyo:20191222T140000
DTSTAMP:20260423T190735
CREATED:20191213T002810Z
LAST-MODIFIED:20191213T002810Z
UID:12816-1577008800-1577023200@www.tokunoshima-kanko.com
SUMMARY:母間産業祭　年末なんでも市
DESCRIPTION: \n【日時】１２月２２日（日）　午前１０時～午後２時 \n【場所】母間新港 \n
URL:http://www.tokunoshima-kanko.com/event/%e6%af%8d%e9%96%93%e7%94%a3%e6%a5%ad%e7%a5%ad%e3%80%80%e5%b9%b4%e6%9c%ab%e3%81%aa%e3%82%93%e3%81%a7%e3%82%82%e5%b8%82/
END:VEVENT
END:VCALENDAR