BEGIN:VCALENDAR
VERSION:2.0
PRODID:-//一般社団法人徳之島観光連盟 - ECPv4.6.21//NONSGML v1.0//EN
CALSCALE:GREGORIAN
METHOD:PUBLISH
X-WR-CALNAME:一般社団法人徳之島観光連盟
X-ORIGINAL-URL:http://www.tokunoshima-kanko.com
X-WR-CALDESC:Events for 一般社団法人徳之島観光連盟
BEGIN:VEVENT
DTSTART;TZID=Asia/Tokyo:20181122T183000
DTEND;TZID=Asia/Tokyo:20181122T213000
DTSTAMP:20260424T232626
CREATED:20181022T055925Z
LAST-MODIFIED:20181120T054701Z
UID:9069-1542911400-1542922200@www.tokunoshima-kanko.com
SUMMARY:歌の夢祭り
DESCRIPTION: \n
URL:http://www.tokunoshima-kanko.com/event/%e6%ad%8c%e3%81%ae%e5%a4%a2%e7%a5%ad%e3%82%8a/
LOCATION:徳之島町亀津7673\, 大島郡\, 鹿児島県\, 891-7101\, Japan
END:VEVENT
END:VCALENDAR