BEGIN:VCALENDAR
VERSION:2.0
PRODID:-//一般社団法人徳之島観光連盟 - ECPv4.6.21//NONSGML v1.0//EN
CALSCALE:GREGORIAN
METHOD:PUBLISH
X-WR-CALNAME:一般社団法人徳之島観光連盟
X-ORIGINAL-URL:http://www.tokunoshima-kanko.com
X-WR-CALDESC:Events for 一般社団法人徳之島観光連盟
BEGIN:VEVENT
DTSTART;TZID=Asia/Tokyo:20200104T130000
DTEND;TZID=Asia/Tokyo:20200104T170000
DTSTAMP:20260423T171726
CREATED:20191122T001705Z
LAST-MODIFIED:20191122T001705Z
UID:12687-1578142800-1578157200@www.tokunoshima-kanko.com
SUMMARY:新春若手ふるさと闘牛大会
DESCRIPTION: \n
URL:http://www.tokunoshima-kanko.com/event/%e6%96%b0%e6%98%a5%e8%8b%a5%e6%89%8b%e3%81%b5%e3%82%8b%e3%81%95%e3%81%a8%e9%97%98%e7%89%9b%e5%a4%a7%e4%bc%9a/
LOCATION:伊仙町大字目手久626
END:VEVENT
END:VCALENDAR