BEGIN:VCALENDAR
VERSION:2.0
PRODID:-//一般社団法人徳之島観光連盟 - ECPv4.6.21//NONSGML v1.0//EN
CALSCALE:GREGORIAN
METHOD:PUBLISH
X-WR-CALNAME:一般社団法人徳之島観光連盟
X-ORIGINAL-URL:http://www.tokunoshima-kanko.com
X-WR-CALDESC:Events for 一般社団法人徳之島観光連盟
BEGIN:VEVENT
DTSTART;TZID=Asia/Tokyo:20180815T180000
DTEND;TZID=Asia/Tokyo:20180815T180000
DTSTAMP:20260425T124320
CREATED:20180601T020605Z
LAST-MODIFIED:20180601T020605Z
UID:7752-1534356000-1534356000@www.tokunoshima-kanko.com
SUMMARY:手々ムチタボレ
DESCRIPTION:
URL:http://www.tokunoshima-kanko.com/event/%e6%89%8b%e3%80%85%e3%83%a0%e3%83%81%e3%82%bf%e3%83%9c%e3%83%ac/
LOCATION:徳之島町手々\, 大島郡\, 鹿児島県\, 891-7421\, Japan
END:VEVENT
END:VCALENDAR