BEGIN:VCALENDAR
VERSION:2.0
PRODID:-//一般社団法人徳之島観光連盟 - ECPv4.6.21//NONSGML v1.0//EN
CALSCALE:GREGORIAN
METHOD:PUBLISH
X-WR-CALNAME:一般社団法人徳之島観光連盟
X-ORIGINAL-URL:http://www.tokunoshima-kanko.com
X-WR-CALDESC:Events for 一般社団法人徳之島観光連盟
BEGIN:VEVENT
DTSTART;TZID=Asia/Tokyo:20190616T130000
DTEND;TZID=Asia/Tokyo:20190616T130000
DTSTAMP:20260423T203030
CREATED:20190602T063915Z
LAST-MODIFIED:20190602T063915Z
UID:11121-1560690000-1560690000@www.tokunoshima-kanko.com
SUMMARY:手々　「豊年祭」
DESCRIPTION:
URL:http://www.tokunoshima-kanko.com/event/%e6%89%8b%e3%80%85%e3%80%80%e3%80%8c%e8%b1%8a%e5%b9%b4%e7%a5%ad%e3%80%8d/
END:VEVENT
END:VCALENDAR