BEGIN:VCALENDAR
VERSION:2.0
PRODID:-//一般社団法人徳之島観光連盟 - ECPv4.6.21//NONSGML v1.0//EN
CALSCALE:GREGORIAN
METHOD:PUBLISH
X-WR-CALNAME:一般社団法人徳之島観光連盟
X-ORIGINAL-URL:http://www.tokunoshima-kanko.com
X-WR-CALDESC:Events for 一般社団法人徳之島観光連盟
BEGIN:VEVENT
DTSTART;TZID=Asia/Tokyo:20191104T110000
DTEND;TZID=Asia/Tokyo:20191104T140000
DTSTAMP:20260421T131519
CREATED:20191029T023521Z
LAST-MODIFIED:20191029T023608Z
UID:12499-1572865200-1572876000@www.tokunoshima-kanko.com
SUMMARY:徳之島3町合同防災訓練（フェスタ）2019
DESCRIPTION: \n
URL:http://www.tokunoshima-kanko.com/event/%e5%be%b3%e4%b9%8b%e5%b3%b63%e7%94%ba%e5%90%88%e5%90%8c%e9%98%b2%e7%81%bd%e8%a8%93%e7%b7%b4%ef%bc%88%e3%83%95%e3%82%a7%e3%82%b9%e3%82%bf%ef%bc%892019/
LOCATION:天城町浅間１７７－１５\, 大島郡\, 鹿児島県\, 891-7605\, Japan
END:VEVENT
END:VCALENDAR