BEGIN:VCALENDAR
VERSION:2.0
PRODID:-//一般社団法人徳之島観光連盟 - ECPv4.6.21//NONSGML v1.0//EN
CALSCALE:GREGORIAN
METHOD:PUBLISH
X-WR-CALNAME:一般社団法人徳之島観光連盟
X-ORIGINAL-URL:http://www.tokunoshima-kanko.com
X-WR-CALDESC:Events for 一般社団法人徳之島観光連盟
BEGIN:VEVENT
DTSTART;TZID=Asia/Tokyo:20181021T133000
DTEND;TZID=Asia/Tokyo:20181021T133000
DTSTAMP:20260425T010458
CREATED:20181018T003924Z
LAST-MODIFIED:20181018T003924Z
UID:9000-1540128600-1540128600@www.tokunoshima-kanko.com
SUMMARY:徳之島町演奏会
DESCRIPTION: \n
URL:http://www.tokunoshima-kanko.com/event/%e5%be%b3%e4%b9%8b%e5%b3%b6%e7%94%ba%e6%bc%94%e5%a5%8f%e4%bc%9a/
LOCATION:徳之島町花徳52\, 大島郡\, 鹿児島県\, 891-7425\, Japan
END:VEVENT
END:VCALENDAR