BEGIN:VCALENDAR
VERSION:2.0
PRODID:-//一般社団法人徳之島観光連盟 - ECPv4.6.21//NONSGML v1.0//EN
CALSCALE:GREGORIAN
METHOD:PUBLISH
X-WR-CALNAME:一般社団法人徳之島観光連盟
X-ORIGINAL-URL:http://www.tokunoshima-kanko.com
X-WR-CALDESC:Events for 一般社団法人徳之島観光連盟
BEGIN:VEVENT
DTSTART;TZID=Asia/Tokyo:20190505T103000
DTEND;TZID=Asia/Tokyo:20190505T160000
DTSTAMP:20260423T230305
CREATED:20190425T061618Z
LAST-MODIFIED:20190425T061618Z
UID:10956-1557052200-1557072000@www.tokunoshima-kanko.com
SUMMARY:徳之島町海開き&黒砂糖祭
DESCRIPTION: \n
URL:http://www.tokunoshima-kanko.com/event/%e5%be%b3%e4%b9%8b%e5%b3%b6%e7%94%ba%e6%b5%b7%e9%96%8b%e3%81%8d%e9%bb%92%e7%a0%82%e7%b3%96%e7%a5%ad/
LOCATION:徳之島町畦\, 大島郡\, 鹿児島県\, 891-7100\, Japan
END:VEVENT
END:VCALENDAR