BEGIN:VCALENDAR
VERSION:2.0
PRODID:-//一般社団法人徳之島観光連盟 - ECPv4.6.21//NONSGML v1.0//EN
CALSCALE:GREGORIAN
METHOD:PUBLISH
X-WR-CALNAME:一般社団法人徳之島観光連盟
X-ORIGINAL-URL:http://www.tokunoshima-kanko.com
X-WR-CALDESC:Events for 一般社団法人徳之島観光連盟
BEGIN:VEVENT
DTSTART;TZID=Asia/Tokyo:20180726T090000
DTEND;TZID=Asia/Tokyo:20180726T113000
DTSTAMP:20260425T150124
CREATED:20180618T044824Z
LAST-MODIFIED:20180711T070734Z
UID:7975-1532595600-1532604600@www.tokunoshima-kanko.com
SUMMARY:徳之島町小学校水泳記録会
DESCRIPTION:
URL:http://www.tokunoshima-kanko.com/event/%e5%be%b3%e4%b9%8b%e5%b3%b6%e7%94%ba%e5%b0%8f%e5%ad%a6%e6%a0%a1%e6%b0%b4%e6%b3%b3%e8%a8%98%e9%8c%b2%e4%bc%9a/
LOCATION:大島郡徳之島町徳和瀬\, 大島郡\, 鹿児島県\, 891-7111
END:VEVENT
END:VCALENDAR