BEGIN:VCALENDAR
VERSION:2.0
PRODID:-//一般社団法人徳之島観光連盟 - ECPv4.6.21//NONSGML v1.0//EN
CALSCALE:GREGORIAN
METHOD:PUBLISH
X-WR-CALNAME:一般社団法人徳之島観光連盟
X-ORIGINAL-URL:http://www.tokunoshima-kanko.com
X-WR-CALDESC:Events for 一般社団法人徳之島観光連盟
BEGIN:VEVENT
DTSTART;TZID=Asia/Tokyo:20180428T100000
DTEND;TZID=Asia/Tokyo:20180428T100000
DTSTAMP:20260425T212940
CREATED:20180327T235833Z
LAST-MODIFIED:20180327T235833Z
UID:6743-1524909600-1524909600@www.tokunoshima-kanko.com
SUMMARY:徳之島町地域女性連総会
DESCRIPTION:
URL:http://www.tokunoshima-kanko.com/event/%e5%be%b3%e4%b9%8b%e5%b3%b6%e7%94%ba%e5%9c%b0%e5%9f%9f%e5%a5%b3%e6%80%a7%e9%80%a3%e7%b7%8f%e4%bc%9a/
LOCATION:徳之島町亀津２９１８\, 大島郡\, 鹿児島県\, 891-7101\, Japan
END:VEVENT
END:VCALENDAR