BEGIN:VCALENDAR
VERSION:2.0
PRODID:-//一般社団法人徳之島観光連盟 - ECPv4.6.21//NONSGML v1.0//EN
CALSCALE:GREGORIAN
METHOD:PUBLISH
X-WR-CALNAME:一般社団法人徳之島観光連盟
X-ORIGINAL-URL:http://www.tokunoshima-kanko.com
X-WR-CALDESC:Events for 一般社団法人徳之島観光連盟
BEGIN:VEVENT
DTSTART;TZID=Asia/Tokyo:20200222T173000
DTEND;TZID=Asia/Tokyo:20200222T200000
DTSTAMP:20260423T184825
CREATED:20200212T014434Z
LAST-MODIFIED:20200212T014434Z
UID:13200-1582392600-1582401600@www.tokunoshima-kanko.com
SUMMARY:徳之島混声合唱団第２０回定期演奏会
DESCRIPTION: \n
URL:http://www.tokunoshima-kanko.com/event/%e5%be%b3%e4%b9%8b%e5%b3%b6%e6%b7%b7%e5%a3%b0%e5%90%88%e5%94%b1%e5%9b%a3%e7%ac%ac%ef%bc%92%ef%bc%90%e5%9b%9e%e5%ae%9a%e6%9c%9f%e6%bc%94%e5%a5%8f%e4%bc%9a/
END:VEVENT
END:VCALENDAR