BEGIN:VCALENDAR
VERSION:2.0
PRODID:-//一般社団法人徳之島観光連盟 - ECPv4.6.21//NONSGML v1.0//EN
CALSCALE:GREGORIAN
METHOD:PUBLISH
X-WR-CALNAME:一般社団法人徳之島観光連盟
X-ORIGINAL-URL:http://www.tokunoshima-kanko.com
X-WR-CALDESC:Events for 一般社団法人徳之島観光連盟
BEGIN:VEVENT
DTSTART;TZID=Asia/Tokyo:20190210T180000
DTEND;TZID=Asia/Tokyo:20190210T210000
DTSTAMP:20260424T090130
CREATED:20190117T014025Z
LAST-MODIFIED:20190117T014025Z
UID:10092-1549821600-1549832400@www.tokunoshima-kanko.com
SUMMARY:徳之島混声合唱団　第19回定期演奏会　　
DESCRIPTION:～我　歌う　ゆえに我あり　合唱なくして　何の人生ぞ～　　舞台で一緒に歌ってみませんか♪ \n
URL:http://www.tokunoshima-kanko.com/event/%e5%be%b3%e4%b9%8b%e5%b3%b6%e6%b7%b7%e5%a3%b0%e5%90%88%e5%94%b1%e5%9b%a3%e3%80%80%e7%ac%ac19%e5%9b%9e%e5%ae%9a%e6%9c%9f%e6%bc%94%e5%a5%8f%e4%bc%9a%e3%80%80%e3%80%80/
LOCATION:徳之島町亀津7673\, 大島郡\, 鹿児島県\, 891-7101\, Japan
END:VEVENT
END:VCALENDAR