BEGIN:VCALENDAR
VERSION:2.0
PRODID:-//一般社団法人徳之島観光連盟 - ECPv4.6.21//NONSGML v1.0//EN
CALSCALE:GREGORIAN
METHOD:PUBLISH
X-WR-CALNAME:一般社団法人徳之島観光連盟
X-ORIGINAL-URL:http://www.tokunoshima-kanko.com
X-WR-CALDESC:Events for 一般社団法人徳之島観光連盟
BEGIN:VEVENT
DTSTART;TZID=Asia/Tokyo:20180617T130000
DTEND;TZID=Asia/Tokyo:20180617T160000
DTSTAMP:20260425T143844
CREATED:20180519T061129Z
LAST-MODIFIED:20180531T012255Z
UID:7530-1529240400-1529251200@www.tokunoshima-kanko.com
SUMMARY:徳之島子ども文化祭
DESCRIPTION: \n
URL:http://www.tokunoshima-kanko.com/event/%e5%be%b3%e4%b9%8b%e5%b3%b6%e5%ad%90%e3%81%a9%e3%82%82%e6%96%87%e5%8c%96%e7%a5%ad/
LOCATION:徳之島町亀津７６７３\, 大島郡\, 鹿児島県\, 891-7101\, Japan
END:VEVENT
END:VCALENDAR