BEGIN:VCALENDAR
VERSION:2.0
PRODID:-//一般社団法人徳之島観光連盟 - ECPv4.6.21//NONSGML v1.0//EN
CALSCALE:GREGORIAN
METHOD:PUBLISH
X-WR-CALNAME:一般社団法人徳之島観光連盟
X-ORIGINAL-URL:http://www.tokunoshima-kanko.com
X-WR-CALDESC:Events for 一般社団法人徳之島観光連盟
BEGIN:VEVENT
DTSTART;TZID=Asia/Tokyo:20181125T140000
DTEND;TZID=Asia/Tokyo:20181125T180000
DTSTAMP:20260424T190646
CREATED:20181114T050149Z
LAST-MODIFIED:20181118T072228Z
UID:9328-1543154400-1543168800@www.tokunoshima-kanko.com
SUMMARY:徳之島みらい創りＣＡＭＰＵＳ2018
DESCRIPTION: \n
URL:http://www.tokunoshima-kanko.com/event/%e5%be%b3%e4%b9%8b%e5%b3%b6%e3%81%bf%e3%82%89%e3%81%84%e5%89%b5%e3%82%8a%ef%bd%83%ef%bd%81%ef%bd%8d%ef%bd%90%ef%bd%95%ef%bd%932018/
LOCATION:徳之島町井之川223-2\, 大島郡\, 鹿児島県\, 891-7114\, Japan
END:VEVENT
END:VCALENDAR