BEGIN:VCALENDAR
VERSION:2.0
PRODID:-//一般社団法人徳之島観光連盟 - ECPv4.6.21//NONSGML v1.0//EN
CALSCALE:GREGORIAN
METHOD:PUBLISH
X-WR-CALNAME:一般社団法人徳之島観光連盟
X-ORIGINAL-URL:http://www.tokunoshima-kanko.com
X-WR-CALDESC:Events for 一般社団法人徳之島観光連盟
BEGIN:VEVENT
DTSTART;TZID=Asia/Tokyo:20190303T140000
DTEND;TZID=Asia/Tokyo:20190303T180000
DTSTAMP:20260424T075133
CREATED:20190223T021015Z
LAST-MODIFIED:20190223T021015Z
UID:10484-1551621600-1551636000@www.tokunoshima-kanko.com
SUMMARY:徳之島みらい創りＣＡＭＰＵＳ2018
DESCRIPTION:いよいよ最後の「活動報告会」 \n
URL:http://www.tokunoshima-kanko.com/event/%e5%be%b3%e4%b9%8b%e5%b3%b6%e3%81%bf%e3%82%89%e3%81%84%e5%89%b5%e3%82%8a%ef%bd%83%ef%bd%81%ef%bd%8d%ef%bd%90%ef%bd%95%ef%bd%932018-2/
END:VEVENT
END:VCALENDAR