BEGIN:VCALENDAR
VERSION:2.0
PRODID:-//一般社団法人徳之島観光連盟 - ECPv4.6.21//NONSGML v1.0//EN
CALSCALE:GREGORIAN
METHOD:PUBLISH
X-WR-CALNAME:一般社団法人徳之島観光連盟
X-ORIGINAL-URL:http://www.tokunoshima-kanko.com
X-WR-CALDESC:Events for 一般社団法人徳之島観光連盟
BEGIN:VEVENT
DTSTART;TZID=Asia/Tokyo:20190202T130000
DTEND;TZID=Asia/Tokyo:20190202T140000
DTSTAMP:20260424T090255
CREATED:20190202T011709Z
LAST-MODIFIED:20190202T011709Z
UID:10328-1549112400-1549116000@www.tokunoshima-kanko.com
SUMMARY:徳之島の農業と世界自然遺産
DESCRIPTION: \n
URL:http://www.tokunoshima-kanko.com/event/%e5%be%b3%e4%b9%8b%e5%b3%b6%e3%81%ae%e8%be%b2%e6%a5%ad%e3%81%a8%e4%b8%96%e7%95%8c%e8%87%aa%e7%84%b6%e9%81%ba%e7%94%a3/
LOCATION:伊仙町伊仙３０７１-１\, 大島郡\, 鹿児島県\, 891-8201
END:VEVENT
END:VCALENDAR