BEGIN:VCALENDAR
VERSION:2.0
PRODID:-//一般社団法人徳之島観光連盟 - ECPv4.6.21//NONSGML v1.0//EN
CALSCALE:GREGORIAN
METHOD:PUBLISH
X-WR-CALNAME:一般社団法人徳之島観光連盟
X-ORIGINAL-URL:http://www.tokunoshima-kanko.com
X-WR-CALDESC:Events for 一般社団法人徳之島観光連盟
BEGIN:VEVENT
DTSTART;TZID=Asia/Tokyo:20190616T133000
DTEND;TZID=Asia/Tokyo:20190616T183000
DTSTAMP:20260423T203123
CREATED:20190602T044718Z
LAST-MODIFIED:20190602T061036Z
UID:11094-1560691800-1560709800@www.tokunoshima-kanko.com
SUMMARY:徳之島のあたりまえ！シンポジュウム
DESCRIPTION: \n
URL:http://www.tokunoshima-kanko.com/event/%e5%be%b3%e4%b9%8b%e5%b3%b6%e3%81%ae%e3%81%82%e3%81%9f%e3%82%8a%e3%81%be%e3%81%88%ef%bc%81%e3%82%b7%e3%83%b3%e3%83%9d%e3%82%b8%e3%83%a5%e3%82%a6%e3%83%a0%e9%96%8b%e5%82%ac/
LOCATION:伊仙町伊仙２５７５-２
END:VEVENT
END:VCALENDAR