BEGIN:VCALENDAR
VERSION:2.0
PRODID:-//一般社団法人徳之島観光連盟 - ECPv4.6.21//NONSGML v1.0//EN
CALSCALE:GREGORIAN
METHOD:PUBLISH
X-WR-CALNAME:一般社団法人徳之島観光連盟
X-ORIGINAL-URL:http://www.tokunoshima-kanko.com
X-WR-CALDESC:Events for 一般社団法人徳之島観光連盟
BEGIN:VEVENT
DTSTART;TZID=Asia/Tokyo:20181216T090000
DTEND;TZID=Asia/Tokyo:20181216T120000
DTSTAMP:20260424T151547
CREATED:20181206T005547Z
LAST-MODIFIED:20181206T005547Z
UID:9605-1544950800-1544961600@www.tokunoshima-kanko.com
SUMMARY:徳之島でサイクリングを楽しもう！
DESCRIPTION:プレイベントのコース \n
URL:http://www.tokunoshima-kanko.com/event/%e5%be%b3%e4%b9%8b%e5%b3%b6%e3%81%a7%e3%82%b5%e3%82%a4%e3%82%af%e3%83%aa%e3%83%b3%e3%82%b0%e3%82%92%e6%a5%bd%e3%81%97%e3%82%82%e3%81%86%ef%bc%81/
END:VEVENT
END:VCALENDAR