BEGIN:VCALENDAR
VERSION:2.0
PRODID:-//一般社団法人徳之島観光連盟 - ECPv4.6.21//NONSGML v1.0//EN
CALSCALE:GREGORIAN
METHOD:PUBLISH
X-WR-CALNAME:一般社団法人徳之島観光連盟
X-ORIGINAL-URL:http://www.tokunoshima-kanko.com
X-WR-CALDESC:Events for 一般社団法人徳之島観光連盟
BEGIN:VEVENT
DTSTART;TZID=Asia/Tokyo:20180504T100000
DTEND;TZID=Asia/Tokyo:20180504T160000
DTSTAMP:20260425T195922
CREATED:20180428T101338Z
LAST-MODIFIED:20180512T073600Z
UID:7228-1525428000-1525449600@www.tokunoshima-kanko.com
SUMMARY:幸せの種を広げる アート展＆癒し展
DESCRIPTION: \n
URL:http://www.tokunoshima-kanko.com/event/%e5%b9%b8%e3%81%9b%e3%81%ae%e7%a8%ae%e3%82%92%e5%ba%83%e3%81%92%e3%82%8b-%e3%82%a2%e3%83%bc%e3%83%88%e5%b1%95%ef%bc%86%e7%99%92%e3%81%97%e5%b1%95/
END:VEVENT
END:VCALENDAR