BEGIN:VCALENDAR
VERSION:2.0
PRODID:-//一般社団法人徳之島観光連盟 - ECPv4.6.21//NONSGML v1.0//EN
CALSCALE:GREGORIAN
METHOD:PUBLISH
X-WR-CALNAME:一般社団法人徳之島観光連盟
X-ORIGINAL-URL:http://www.tokunoshima-kanko.com
X-WR-CALDESC:Events for 一般社団法人徳之島観光連盟
BEGIN:VEVENT
DTSTART;TZID=Asia/Tokyo:20200315T130000
DTEND;TZID=Asia/Tokyo:20200315T170000
DTSTAMP:20260423T200843
CREATED:20200212T013216Z
LAST-MODIFIED:20200310T011257Z
UID:13190-1584277200-1584291600@www.tokunoshima-kanko.com
SUMMARY:【中止】平成13･14年生卒業記念闘牛大会
DESCRIPTION: \n
URL:http://www.tokunoshima-kanko.com/event/%e5%b9%b3%e6%88%9013%ef%bd%a514%e5%b9%b4%e7%94%9f%e5%8d%92%e6%a5%ad%e8%a8%98%e5%bf%b5%e9%97%98%e7%89%9b%e5%a4%a7%e4%bc%9a/
END:VEVENT
END:VCALENDAR