BEGIN:VCALENDAR
VERSION:2.0
PRODID:-//一般社団法人徳之島観光連盟 - ECPv4.6.21//NONSGML v1.0//EN
CALSCALE:GREGORIAN
METHOD:PUBLISH
X-WR-CALNAME:一般社団法人徳之島観光連盟
X-ORIGINAL-URL:http://www.tokunoshima-kanko.com
X-WR-CALDESC:Events for 一般社団法人徳之島観光連盟
BEGIN:VEVENT
DTSTART;TZID=Asia/Tokyo:20180304T100000
DTEND;TZID=Asia/Tokyo:20180304T100000
DTSTAMP:20260425T182737
CREATED:20180317T061350Z
LAST-MODIFIED:20180317T061350Z
UID:6600-1520157600-1520157600@www.tokunoshima-kanko.com
SUMMARY:平成11･12年生卒業記念闘牛大会
DESCRIPTION:  \n \n入場料：\2\,500(高校生以上)\１\,０００（中学生）小学生以下無料 \n
URL:http://www.tokunoshima-kanko.com/event/%e5%b9%b3%e6%88%9011%ef%bd%a512%e5%b9%b4%e7%94%9f%e5%8d%92%e6%a5%ad%e8%a8%98%e5%bf%b5%e9%97%98%e7%89%9b%e5%a4%a7%e4%bc%9a/
LOCATION:伊仙町目手久626\, 大島郡\, 鹿児島県\, 891-8113\, Japan
END:VEVENT
END:VCALENDAR