BEGIN:VCALENDAR
VERSION:2.0
PRODID:-//一般社団法人徳之島観光連盟 - ECPv4.6.21//NONSGML v1.0//EN
CALSCALE:GREGORIAN
METHOD:PUBLISH
X-WR-CALNAME:一般社団法人徳之島観光連盟
X-ORIGINAL-URL:http://www.tokunoshima-kanko.com
X-WR-CALDESC:Events for 一般社団法人徳之島観光連盟
BEGIN:VEVENT
DTSTART;TZID=Asia/Tokyo:20190428T133000
DTEND;TZID=Asia/Tokyo:20190428T133000
DTSTAMP:20260424T022447
CREATED:20190219T073347Z
LAST-MODIFIED:20190417T064322Z
UID:10465-1556458200-1556458200@www.tokunoshima-kanko.com
SUMMARY:ろばた焼き帆船花 20周年記念闘牛大会
DESCRIPTION: \n
URL:http://www.tokunoshima-kanko.com/event/%e5%b8%86%e8%88%b9%e8%8a%b120%e5%91%a8%e5%b9%b4%e8%a8%98%e5%bf%b5%e5%a4%a7%e4%bc%9a%ef%bc%88%e4%bb%ae%ef%bc%89/
LOCATION:伊仙町目手久626\, 大島郡\, 鹿児島県\, 891-8113\, Japan
END:VEVENT
END:VCALENDAR