BEGIN:VCALENDAR
VERSION:2.0
PRODID:-//一般社団法人徳之島観光連盟 - ECPv4.6.21//NONSGML v1.0//EN
CALSCALE:GREGORIAN
METHOD:PUBLISH
X-WR-CALNAME:一般社団法人徳之島観光連盟
X-ORIGINAL-URL:http://www.tokunoshima-kanko.com
X-WR-CALDESC:Events for 一般社団法人徳之島観光連盟
BEGIN:VEVENT
DTSTART;TZID=Asia/Tokyo:20200214T153000
DTEND;TZID=Asia/Tokyo:20200214T193000
DTSTAMP:20260423T203304
CREATED:20200107T073936Z
LAST-MODIFIED:20200107T073936Z
UID:12915-1581694200-1581708600@www.tokunoshima-kanko.com
SUMMARY:島嶼SDGsキックオフシンポジウム～自治体×企業×島のパートナーシップ構築～
DESCRIPTION: \n  \n
URL:http://www.tokunoshima-kanko.com/event/%e5%b3%b6%e5%b6%bcsdgs%e3%82%ad%e3%83%83%e3%82%af%e3%82%aa%e3%83%95%e3%82%b7%e3%83%b3%e3%83%9d%e3%82%b8%e3%82%a6%e3%83%a0%ef%bd%9e%e8%87%aa%e6%b2%bb%e4%bd%93x%e4%bc%81%e6%a5%adx%e5%b3%b6/
LOCATION:東京都台東区小島2-20-11\, 111-0056
END:VEVENT
END:VCALENDAR