BEGIN:VCALENDAR
VERSION:2.0
PRODID:-//一般社団法人徳之島観光連盟 - ECPv4.6.21//NONSGML v1.0//EN
CALSCALE:GREGORIAN
METHOD:PUBLISH
X-WR-CALNAME:一般社団法人徳之島観光連盟
X-ORIGINAL-URL:http://www.tokunoshima-kanko.com
X-WR-CALDESC:Events for 一般社団法人徳之島観光連盟
BEGIN:VEVENT
DTSTART;TZID=Asia/Tokyo:20180706T183000
DTEND;TZID=Asia/Tokyo:20180706T200000
DTSTAMP:20260425T152802
CREATED:20180705T003825Z
LAST-MODIFIED:20180705T003825Z
UID:8090-1530901800-1530907200@www.tokunoshima-kanko.com
SUMMARY:島学「森のどうぶつたちの緊急会議」と動物写真上映会
DESCRIPTION:
URL:http://www.tokunoshima-kanko.com/event/%e5%b3%b6%e5%ad%a6%e3%80%8c%e6%a3%ae%e3%81%ae%e3%81%a9%e3%81%86%e3%81%b6%e3%81%a4%e3%81%9f%e3%81%a1%e3%81%ae%e7%b7%8a%e6%80%a5%e4%bc%9a%e8%ad%b0%e3%80%8d%e3%81%a8%e5%8b%95%e7%89%a9%e5%86%99%e7%9c%9f/
LOCATION:徳之島町亀津7673\, 大島郡\, 鹿児島県\, 891-7101\, Japan
END:VEVENT
END:VCALENDAR