BEGIN:VCALENDAR
VERSION:2.0
PRODID:-//一般社団法人徳之島観光連盟 - ECPv4.6.21//NONSGML v1.0//EN
CALSCALE:GREGORIAN
METHOD:PUBLISH
X-WR-CALNAME:一般社団法人徳之島観光連盟
X-ORIGINAL-URL:http://www.tokunoshima-kanko.com
X-WR-CALDESC:Events for 一般社団法人徳之島観光連盟
BEGIN:VEVENT
DTSTART;TZID=Asia/Tokyo:20190217T130000
DTEND;TZID=Asia/Tokyo:20190217T160000
DTSTAMP:20260424T070246
CREATED:20190117T014921Z
LAST-MODIFIED:20190117T014921Z
UID:10107-1550408400-1550419200@www.tokunoshima-kanko.com
SUMMARY:島口・島唄の祭典（冬期）
DESCRIPTION:
URL:http://www.tokunoshima-kanko.com/event/%e5%b3%b6%e5%8f%a3%e3%83%bb%e5%b3%b6%e5%94%84%e3%81%ae%e7%a5%ad%e5%85%b8%ef%bc%88%e5%86%ac%e6%9c%9f%ef%bc%89/
LOCATION:徳之島町亀津\, 大島郡\, 鹿児島県\, 891-7101\, Japan
END:VEVENT
END:VCALENDAR