BEGIN:VCALENDAR
VERSION:2.0
PRODID:-//一般社団法人徳之島観光連盟 - ECPv4.6.21//NONSGML v1.0//EN
CALSCALE:GREGORIAN
METHOD:PUBLISH
X-WR-CALNAME:一般社団法人徳之島観光連盟
X-ORIGINAL-URL:http://www.tokunoshima-kanko.com
X-WR-CALDESC:Events for 一般社団法人徳之島観光連盟
BEGIN:VEVENT
DTSTART;TZID=Asia/Tokyo:20180303T130000
DTEND;TZID=Asia/Tokyo:20180303T130000
DTSTAMP:20260425T230516
CREATED:20180317T075858Z
LAST-MODIFIED:20180317T075858Z
UID:6619-1520082000-1520082000@www.tokunoshima-kanko.com
SUMMARY:島口ミュージカル「結～MUSUBI～」
DESCRIPTION: \n全席指定 大人：2000円、高校生以下1500円、未就学児無料 \n
URL:http://www.tokunoshima-kanko.com/event/%e5%b3%b6%e5%8f%a3%e3%83%9f%e3%83%a5%e3%83%bc%e3%82%b8%e3%82%ab%e3%83%ab%e3%80%8c%e7%b5%90%ef%bd%9emusubi%ef%bd%9e%e3%80%8d-2/
LOCATION:天城町天城４３０\, 大島郡\, 鹿児島県\, 891-7611\, Japan
END:VEVENT
END:VCALENDAR