BEGIN:VCALENDAR
VERSION:2.0
PRODID:-//一般社団法人徳之島観光連盟 - ECPv4.6.21//NONSGML v1.0//EN
CALSCALE:GREGORIAN
METHOD:PUBLISH
X-WR-CALNAME:一般社団法人徳之島観光連盟
X-ORIGINAL-URL:http://www.tokunoshima-kanko.com
X-WR-CALDESC:Events for 一般社団法人徳之島観光連盟
BEGIN:VEVENT
DTSTART;TZID=Asia/Tokyo:20200103T140000
DTEND;TZID=Asia/Tokyo:20200103T140000
DTSTAMP:20260423T185345
CREATED:20191224T015754Z
LAST-MODIFIED:20191224T015754Z
UID:12859-1578060000-1578060000@www.tokunoshima-kanko.com
SUMMARY:島の芸達者新春お正月恒例　バラエティ笑
DESCRIPTION: \n
URL:http://www.tokunoshima-kanko.com/event/%e5%b3%b6%e3%81%ae%e8%8a%b8%e9%81%94%e8%80%85%e6%96%b0%e6%98%a5%e3%81%8a%e6%ad%a3%e6%9c%88%e6%81%92%e4%be%8b%e3%80%80%e3%83%90%e3%83%a9%e3%82%a8%e3%83%86%e3%82%a3%e7%ac%91/
LOCATION:徳之島町亀津7673
END:VEVENT
END:VCALENDAR