BEGIN:VCALENDAR
VERSION:2.0
PRODID:-//一般社団法人徳之島観光連盟 - ECPv4.6.21//NONSGML v1.0//EN
CALSCALE:GREGORIAN
METHOD:PUBLISH
X-WR-CALNAME:一般社団法人徳之島観光連盟
X-ORIGINAL-URL:http://www.tokunoshima-kanko.com
X-WR-CALDESC:Events for 一般社団法人徳之島観光連盟
BEGIN:VEVENT
DTSTART;TZID=Asia/Tokyo:20200201T103000
DTEND;TZID=Asia/Tokyo:20200201T120000
DTSTAMP:20260423T185647
CREATED:20200114T021751Z
LAST-MODIFIED:20200114T021751Z
UID:12949-1580553000-1580558400@www.tokunoshima-kanko.com
SUMMARY:山の音楽舎うたのたね～おんがくのはじまり～
DESCRIPTION: \n
URL:http://www.tokunoshima-kanko.com/event/%e5%b1%b1%e3%81%ae%e9%9f%b3%e6%a5%bd%e8%88%8e%e3%81%86%e3%81%9f%e3%81%ae%e3%81%9f%e3%81%ad%ef%bd%9e%e3%81%8a%e3%82%93%e3%81%8c%e3%81%8f%e3%81%ae%e3%81%af%e3%81%98%e3%81%be%e3%82%8a%ef%bd%9e/
LOCATION:伊仙町伊仙2638
END:VEVENT
END:VCALENDAR