BEGIN:VCALENDAR
VERSION:2.0
PRODID:-//一般社団法人徳之島観光連盟 - ECPv4.6.21//NONSGML v1.0//EN
CALSCALE:GREGORIAN
METHOD:PUBLISH
X-WR-CALNAME:一般社団法人徳之島観光連盟
X-ORIGINAL-URL:http://www.tokunoshima-kanko.com
X-WR-CALDESC:Events for 一般社団法人徳之島観光連盟
BEGIN:VEVENT
DTSTART;TZID=Asia/Tokyo:20180713T193000
DTEND;TZID=Asia/Tokyo:20180713T210000
DTSTAMP:20260425T120112
CREATED:20180713T001536Z
LAST-MODIFIED:20180713T001619Z
UID:8114-1531510200-1531515600@www.tokunoshima-kanko.com
SUMMARY:宮沢和史トーク＆ライブ
DESCRIPTION: \n
URL:http://www.tokunoshima-kanko.com/event/%e5%ae%ae%e6%b2%a2%e5%92%8c%e5%8f%b2%e3%83%88%e3%83%bc%e3%82%af%ef%bc%86%e3%83%a9%e3%82%a4%e3%83%96/
LOCATION:大島郡天城町与名間610-1\, 大島郡\, 鹿児島県\, 891-7601\, Japan
END:VEVENT
END:VCALENDAR