BEGIN:VCALENDAR
VERSION:2.0
PRODID:-//一般社団法人徳之島観光連盟 - ECPv4.6.21//NONSGML v1.0//EN
CALSCALE:GREGORIAN
METHOD:PUBLISH
X-WR-CALNAME:一般社団法人徳之島観光連盟
X-ORIGINAL-URL:http://www.tokunoshima-kanko.com
X-WR-CALDESC:Events for 一般社団法人徳之島観光連盟
BEGIN:VEVENT
DTSTART;TZID=Asia/Tokyo:20190310T093000
DTEND;TZID=Asia/Tokyo:20190310T110000
DTSTAMP:20260424T063340
CREATED:20190223T022002Z
LAST-MODIFIED:20190228T071027Z
UID:10492-1552210200-1552215600@www.tokunoshima-kanko.com
SUMMARY:学士村塾閉講式・教育賞授賞式
DESCRIPTION:
URL:http://www.tokunoshima-kanko.com/event/%e5%ad%a6%e5%a3%ab%e6%9d%91%e5%a1%be%e9%96%89%e8%ac%9b%e5%bc%8f%e3%83%bb%e6%95%99%e8%82%b2%e8%b3%9e%e6%8e%88%e8%b3%9e%e5%bc%8f/
LOCATION:徳之島町亀津２９１８\, 大島郡\, 鹿児島県\, 891-7101\, Japan
END:VEVENT
END:VCALENDAR