BEGIN:VCALENDAR
VERSION:2.0
PRODID:-//一般社団法人徳之島観光連盟 - ECPv4.6.21//NONSGML v1.0//EN
CALSCALE:GREGORIAN
METHOD:PUBLISH
X-WR-CALNAME:一般社団法人徳之島観光連盟
X-ORIGINAL-URL:http://www.tokunoshima-kanko.com
X-WR-CALDESC:Events for 一般社団法人徳之島観光連盟
BEGIN:VEVENT
DTSTART;TZID=Asia/Tokyo:20180311T090000
DTEND;TZID=Asia/Tokyo:20180311T110000
DTSTAMP:20260425T195301
CREATED:20180317T052103Z
LAST-MODIFIED:20180317T052103Z
UID:6570-1520758800-1520766000@www.tokunoshima-kanko.com
SUMMARY:学士村塾閉校式
DESCRIPTION:
URL:http://www.tokunoshima-kanko.com/event/%e5%ad%a6%e5%a3%ab%e6%9d%91%e5%a1%be%e9%96%89%e6%a0%a1%e5%bc%8f/
LOCATION:徳之島町亀津２９１８\, 大島郡\, 鹿児島県\, 891-7101\, Japan
END:VEVENT
END:VCALENDAR