BEGIN:VCALENDAR
VERSION:2.0
PRODID:-//一般社団法人徳之島観光連盟 - ECPv4.6.21//NONSGML v1.0//EN
CALSCALE:GREGORIAN
METHOD:PUBLISH
X-WR-CALNAME:一般社団法人徳之島観光連盟
X-ORIGINAL-URL:http://www.tokunoshima-kanko.com
X-WR-CALDESC:Events for 一般社団法人徳之島観光連盟
BEGIN:VEVENT
DTSTART;TZID=Asia/Tokyo:20180327T140000
DTEND;TZID=Asia/Tokyo:20180327T150000
DTSTAMP:20260425T224644
CREATED:20180327T070327Z
LAST-MODIFIED:20180327T070526Z
UID:6728-1522159200-1522162800@www.tokunoshima-kanko.com
SUMMARY:子ども読書の日お話会スペシャル
DESCRIPTION:エプロンシアター・パネルシアター \n
URL:http://www.tokunoshima-kanko.com/event/%e5%ad%90%e3%81%a9%e3%82%82%e8%aa%ad%e6%9b%b8%e3%81%ae%e6%97%a5%e3%81%8a%e8%a9%b1%e4%bc%9a%e3%82%b9%e3%83%9a%e3%82%b7%e3%83%a3%e3%83%ab/
LOCATION:徳之島町亀津２９１８\, 大島郡\, 鹿児島県\, 891-7101\, Japan
END:VEVENT
END:VCALENDAR