BEGIN:VCALENDAR
VERSION:2.0
PRODID:-//一般社団法人徳之島観光連盟 - ECPv4.6.21//NONSGML v1.0//EN
CALSCALE:GREGORIAN
METHOD:PUBLISH
X-WR-CALNAME:一般社団法人徳之島観光連盟
X-ORIGINAL-URL:http://www.tokunoshima-kanko.com
X-WR-CALDESC:Events for 一般社団法人徳之島観光連盟
BEGIN:VEVENT
DTSTART;TZID=Asia/Tokyo:20190203T130000
DTEND;TZID=Asia/Tokyo:20190203T150000
DTSTAMP:20260424T092843
CREATED:20190202T003747Z
LAST-MODIFIED:20190202T003747Z
UID:10320-1549198800-1549206000@www.tokunoshima-kanko.com
SUMMARY:奄美群島国立公園　徳之島住民意見交換会
DESCRIPTION: \n
URL:http://www.tokunoshima-kanko.com/event/%e5%a5%84%e7%be%8e%e7%be%a4%e5%b3%b6%e5%9b%bd%e7%ab%8b%e5%85%ac%e5%9c%92%e3%80%80%e5%be%b3%e4%b9%8b%e5%b3%b6%e4%bd%8f%e6%b0%91%e6%84%8f%e8%a6%8b%e4%ba%a4%e6%8f%9b%e4%bc%9a/
LOCATION:徳之島町亀津\, 大島郡\, 鹿児島県\, 891-7101\, Japan
END:VEVENT
END:VCALENDAR