BEGIN:VCALENDAR
VERSION:2.0
PRODID:-//一般社団法人徳之島観光連盟 - ECPv4.6.21//NONSGML v1.0//EN
CALSCALE:GREGORIAN
METHOD:PUBLISH
X-WR-CALNAME:一般社団法人徳之島観光連盟
X-ORIGINAL-URL:http://www.tokunoshima-kanko.com
X-WR-CALDESC:Events for 一般社団法人徳之島観光連盟
BEGIN:VEVENT
DTSTART;TZID=Asia/Tokyo:20200131T110000
DTEND;TZID=Asia/Tokyo:20200131T170000
DTSTAMP:20260423T173514
CREATED:20200127T012054Z
LAST-MODIFIED:20200127T012054Z
UID:13026-1580468400-1580490000@www.tokunoshima-kanko.com
SUMMARY:奄美群島・南三島フェア＠道の駅「ぎのざ」
DESCRIPTION: \n  \n
URL:http://www.tokunoshima-kanko.com/event/%e5%a5%84%e7%be%8e%e7%be%a4%e5%b3%b6%e3%83%bb%e5%8d%97%e4%b8%89%e5%b3%b6%e3%83%95%e3%82%a7%e3%82%a2%ef%bc%a0%e9%81%93%e3%81%ae%e9%a7%85%e3%80%8c%e3%81%8e%e3%81%ae%e3%81%96%e3%80%8d/
LOCATION:沖縄県国頭郡宜野座村字漢那1633
END:VEVENT
END:VCALENDAR