BEGIN:VCALENDAR
VERSION:2.0
PRODID:-//一般社団法人徳之島観光連盟 - ECPv4.6.21//NONSGML v1.0//EN
CALSCALE:GREGORIAN
METHOD:PUBLISH
X-WR-CALNAME:一般社団法人徳之島観光連盟
X-ORIGINAL-URL:http://www.tokunoshima-kanko.com
X-WR-CALDESC:Events for 一般社団法人徳之島観光連盟
BEGIN:VEVENT
DTSTART;TZID=Asia/Tokyo:20180316T173000
DTEND;TZID=Asia/Tokyo:20180316T190000
DTSTAMP:20260425T213200
CREATED:20180317T053446Z
LAST-MODIFIED:20180319T022432Z
UID:6578-1521221400-1521226800@www.tokunoshima-kanko.com
SUMMARY:奄美群島インバウンド対応研修セミナー in 徳之島
DESCRIPTION: \n  \n
URL:http://www.tokunoshima-kanko.com/event/%e5%a5%84%e7%be%8e%e7%be%a4%e5%b3%b6%e3%82%a4%e3%83%b3%e3%83%8f%e3%82%99%e3%82%a6%e3%83%b3%e3%83%88%e3%82%99%e5%af%be%e5%bf%9c%e7%a0%94%e4%bf%ae%e3%82%bb%e3%83%9f%e3%83%8a%e3%83%bc-in-%e5%be%b3/
LOCATION:徳之島町井之川223-2\, 大島郡\, 鹿児島県\, 891-7114\, Japan
END:VEVENT
END:VCALENDAR