BEGIN:VCALENDAR
VERSION:2.0
PRODID:-//一般社団法人徳之島観光連盟 - ECPv4.6.21//NONSGML v1.0//EN
CALSCALE:GREGORIAN
METHOD:PUBLISH
X-WR-CALNAME:一般社団法人徳之島観光連盟
X-ORIGINAL-URL:http://www.tokunoshima-kanko.com
X-WR-CALDESC:Events for 一般社団法人徳之島観光連盟
BEGIN:VEVENT
DTSTART;TZID=Asia/Tokyo:20181216T180000
DTEND;TZID=Asia/Tokyo:20181216T210000
DTSTAMP:20260424T175049
CREATED:20181120T054234Z
LAST-MODIFIED:20181120T054234Z
UID:9384-1544983200-1544994000@www.tokunoshima-kanko.com
SUMMARY:奄美群島　島々音楽団大会
DESCRIPTION: \n
URL:http://www.tokunoshima-kanko.com/event/%e5%a5%84%e7%be%8e%e7%be%a4%e5%b3%b6%e3%80%80%e5%b3%b6%e3%80%85%e9%9f%b3%e6%a5%bd%e5%9b%a3%e5%a4%a7%e4%bc%9a/
LOCATION:徳之島町亀津7673\, 大島郡\, 鹿児島県\, 891-7101\, Japan
END:VEVENT
END:VCALENDAR