BEGIN:VCALENDAR
VERSION:2.0
PRODID:-//一般社団法人徳之島観光連盟 - ECPv4.6.21//NONSGML v1.0//EN
CALSCALE:GREGORIAN
METHOD:PUBLISH
X-WR-CALNAME:一般社団法人徳之島観光連盟
X-ORIGINAL-URL:http://www.tokunoshima-kanko.com
X-WR-CALDESC:Events for 一般社団法人徳之島観光連盟
BEGIN:VEVENT
DTSTART;TZID=Asia/Tokyo:20190102T130000
DTEND;TZID=Asia/Tokyo:20190102T160000
DTSTAMP:20260424T135456
CREATED:20181217T052504Z
LAST-MODIFIED:20181217T052504Z
UID:9728-1546434000-1546444800@www.tokunoshima-kanko.com
SUMMARY:天城町 成人式
DESCRIPTION:
URL:http://www.tokunoshima-kanko.com/event/%e5%a4%a9%e5%9f%8e%e7%94%ba-%e6%88%90%e4%ba%ba%e5%bc%8f/
LOCATION:天城町天城４３０\, 大島郡\, 鹿児島県\, 891-7611\, Japan
END:VEVENT
END:VCALENDAR