BEGIN:VCALENDAR
VERSION:2.0
PRODID:-//一般社団法人徳之島観光連盟 - ECPv4.6.21//NONSGML v1.0//EN
CALSCALE:GREGORIAN
METHOD:PUBLISH
X-WR-CALNAME:一般社団法人徳之島観光連盟
X-ORIGINAL-URL:http://www.tokunoshima-kanko.com
X-WR-CALDESC:Events for 一般社団法人徳之島観光連盟
BEGIN:VEVENT
DTSTART;TZID=Asia/Tokyo:20181021T140000
DTEND;TZID=Asia/Tokyo:20181021T140000
DTSTAMP:20260425T023937
CREATED:20180830T000146Z
LAST-MODIFIED:20180830T000146Z
UID:8662-1540130400-1540130400@www.tokunoshima-kanko.com
SUMMARY:大月みやこ　島おこし　ふれあいコンサート
DESCRIPTION:
URL:http://www.tokunoshima-kanko.com/event/%e5%a4%a7%e6%9c%88%e3%81%bf%e3%82%84%e3%81%93%e3%80%80%e5%b3%b6%e3%81%8a%e3%81%93%e3%81%97%e3%80%80%e3%81%b5%e3%82%8c%e3%81%82%e3%81%84%e3%82%b3%e3%83%b3%e3%82%b5%e3%83%bc%e3%83%88/
LOCATION:徳之島町亀津７６７３\, 大島郡\, 鹿児島県\, 891-7101\, Japan
END:VEVENT
END:VCALENDAR