BEGIN:VCALENDAR
VERSION:2.0
PRODID:-//一般社団法人徳之島観光連盟 - ECPv4.6.21//NONSGML v1.0//EN
CALSCALE:GREGORIAN
METHOD:PUBLISH
X-WR-CALNAME:一般社団法人徳之島観光連盟
X-ORIGINAL-URL:http://www.tokunoshima-kanko.com
X-WR-CALDESC:Events for 一般社団法人徳之島観光連盟
BEGIN:VEVENT
DTSTART;TZID=Asia/Tokyo:20200211T180000
DTEND;TZID=Asia/Tokyo:20200211T193000
DTSTAMP:20260423T190456
CREATED:20200117T055920Z
LAST-MODIFIED:20200117T060018Z
UID:12997-1581444000-1581449400@www.tokunoshima-kanko.com
SUMMARY:大山加奈さん特別講演会
DESCRIPTION: \n
URL:http://www.tokunoshima-kanko.com/event/%e5%a4%a7%e5%b1%b1%e5%8a%a0%e5%a5%88%e3%81%95%e3%82%93%e7%89%b9%e5%88%a5%e8%ac%9b%e6%bc%94%e4%bc%9a/
LOCATION:徳之島町亀津7673
END:VEVENT
END:VCALENDAR