BEGIN:VCALENDAR
VERSION:2.0
PRODID:-//一般社団法人徳之島観光連盟 - ECPv4.6.21//NONSGML v1.0//EN
CALSCALE:GREGORIAN
METHOD:PUBLISH
X-WR-CALNAME:一般社団法人徳之島観光連盟
X-ORIGINAL-URL:http://www.tokunoshima-kanko.com
X-WR-CALDESC:Events for 一般社団法人徳之島観光連盟
BEGIN:VEVENT
DTSTART;TZID=Asia/Tokyo:20181117T183000
DTEND;TZID=Asia/Tokyo:20181117T200000
DTSTAMP:20260424T192318
CREATED:20181107T044855Z
LAST-MODIFIED:20181107T044856Z
UID:9312-1542479400-1542484800@www.tokunoshima-kanko.com
SUMMARY:夜の森歩きをしてみよう
DESCRIPTION: \n
URL:http://www.tokunoshima-kanko.com/event/%e5%a4%9c%e3%81%ae%e6%a3%ae%e6%ad%a9%e3%81%8d%e3%82%92%e3%81%97%e3%81%a6%e3%81%bf%e3%82%88%e3%81%86/
END:VEVENT
END:VCALENDAR