BEGIN:VCALENDAR
VERSION:2.0
PRODID:-//一般社団法人徳之島観光連盟 - ECPv4.6.21//NONSGML v1.0//EN
CALSCALE:GREGORIAN
METHOD:PUBLISH
X-WR-CALNAME:一般社団法人徳之島観光連盟
X-ORIGINAL-URL:http://www.tokunoshima-kanko.com
X-WR-CALDESC:Events for 一般社団法人徳之島観光連盟
BEGIN:VEVENT
DTSTART;TZID=Asia/Tokyo:20191208T171500
DTEND;TZID=Asia/Tokyo:20191208T171500
DTSTAMP:20260423T173938
CREATED:20191127T065254Z
LAST-MODIFIED:20191127T065808Z
UID:12731-1575825300-1575825300@www.tokunoshima-kanko.com
SUMMARY:城南海　クリスマスディナーショー
DESCRIPTION: \n  \n
URL:http://www.tokunoshima-kanko.com/event/%e5%9f%8e%e5%8d%97%e6%b5%b7%e3%80%80%e3%82%af%e3%83%aa%e3%82%b9%e3%83%9e%e3%82%b9%e3%83%87%e3%82%a3%e3%83%8a%e3%83%bc%e3%82%b7%e3%83%a7%e3%83%bc/
LOCATION:徳之島町亀津7510
END:VEVENT
END:VCALENDAR