BEGIN:VCALENDAR
VERSION:2.0
PRODID:-//一般社団法人徳之島観光連盟 - ECPv4.6.21//NONSGML v1.0//EN
CALSCALE:GREGORIAN
METHOD:PUBLISH
X-WR-CALNAME:一般社団法人徳之島観光連盟
X-ORIGINAL-URL:http://www.tokunoshima-kanko.com
X-WR-CALDESC:Events for 一般社団法人徳之島観光連盟
BEGIN:VEVENT
DTSTART;TZID=Asia/Tokyo:20180513T093000
DTEND;TZID=Asia/Tokyo:20180513T093000
DTSTAMP:20260425T200958
CREATED:20180418T001527Z
LAST-MODIFIED:20180511T061039Z
UID:7076-1526203800-1526203800@www.tokunoshima-kanko.com
SUMMARY:徳之島町地域女性連運動会
DESCRIPTION:
URL:http://www.tokunoshima-kanko.com/event/%e5%9c%b0%e5%9f%9f%e5%a5%b3%e6%80%a7%e9%80%a3%e9%81%8b%e5%8b%95%e4%bc%9a/
LOCATION:徳之島町亀津7023\, 大島郡\, 鹿児島県\, 891-7101\, Japan
END:VEVENT
END:VCALENDAR