BEGIN:VCALENDAR
VERSION:2.0
PRODID:-//一般社団法人徳之島観光連盟 - ECPv4.6.21//NONSGML v1.0//EN
CALSCALE:GREGORIAN
METHOD:PUBLISH
X-WR-CALNAME:一般社団法人徳之島観光連盟
X-ORIGINAL-URL:http://www.tokunoshima-kanko.com
X-WR-CALDESC:Events for 一般社団法人徳之島観光連盟
BEGIN:VEVENT
DTSTART;TZID=Asia/Tokyo:20180525T140000
DTEND;TZID=Asia/Tokyo:20180525T140000
DTSTAMP:20260425T185450
CREATED:20180418T002330Z
LAST-MODIFIED:20180511T061010Z
UID:7090-1527256800-1527256800@www.tokunoshima-kanko.com
SUMMARY:徳之島町 合同金婚式・ダイヤモンド婚式
DESCRIPTION:13:30～写真撮影 \n
URL:http://www.tokunoshima-kanko.com/event/%e5%90%88%e5%90%8c%e9%87%91%e5%a9%9a%e5%bc%8f%e3%83%bb%e3%83%80%e3%82%a4%e3%83%a4%e3%83%a2%e3%83%b3%e3%83%89%e5%a9%9a%e5%bc%8f/
LOCATION:徳之島町亀津２９１８\, 大島郡\, 鹿児島県\, 891-7101\, Japan
END:VEVENT
END:VCALENDAR