BEGIN:VCALENDAR
VERSION:2.0
PRODID:-//一般社団法人徳之島観光連盟 - ECPv4.6.21//NONSGML v1.0//EN
CALSCALE:GREGORIAN
METHOD:PUBLISH
X-WR-CALNAME:一般社団法人徳之島観光連盟
X-ORIGINAL-URL:http://www.tokunoshima-kanko.com
X-WR-CALDESC:Events for 一般社団法人徳之島観光連盟
BEGIN:VEVENT
DTSTART;TZID=Asia/Tokyo:20190302T173000
DTEND;TZID=Asia/Tokyo:20190302T173000
DTSTAMP:20260424T040422
CREATED:20190216T014914Z
LAST-MODIFIED:20190216T015005Z
UID:10426-1551547800-1551547800@www.tokunoshima-kanko.com
SUMMARY:卒業記念闘牛大会
DESCRIPTION: \n
URL:http://www.tokunoshima-kanko.com/event/%e5%8d%92%e6%a5%ad%e8%a8%98%e5%bf%b5%e9%97%98%e7%89%9b%e5%a4%a7%e4%bc%9a/
LOCATION:伊仙町目手久626\, 大島郡\, 鹿児島県\, 891-8113\, Japan
END:VEVENT
END:VCALENDAR