BEGIN:VCALENDAR
VERSION:2.0
PRODID:-//一般社団法人徳之島観光連盟 - ECPv4.6.21//NONSGML v1.0//EN
CALSCALE:GREGORIAN
METHOD:PUBLISH
X-WR-CALNAME:一般社団法人徳之島観光連盟
X-ORIGINAL-URL:http://www.tokunoshima-kanko.com
X-WR-CALDESC:Events for 一般社団法人徳之島観光連盟
BEGIN:VEVENT
DTSTART;TZID=Asia/Tokyo:20180311T183000
DTEND;TZID=Asia/Tokyo:20180311T183000
DTSTAMP:20260425T224210
CREATED:20180317T052647Z
LAST-MODIFIED:20180319T021740Z
UID:6573-1520793000-1520793000@www.tokunoshima-kanko.com
SUMMARY:劇団四季 一般公演　「ガンバの大冒険」
DESCRIPTION: \n一般指定席3000円　車椅子3000円　4才以上高校生以下2000円 \n
URL:http://www.tokunoshima-kanko.com/event/%e5%8a%87%e5%9b%a3%e5%9b%9b%e5%ad%a3-%e4%b8%80%e8%88%ac%e5%85%ac%e6%bc%94%e3%80%80%e3%80%8c%e3%82%ac%e3%83%b3%e3%83%90%e3%81%ae%e5%a4%a7%e5%86%92%e9%99%ba%e3%80%8d/
LOCATION:徳之島町亀津7673\, 大島郡\, 鹿児島県\, 891-7101\, Japan
END:VEVENT
END:VCALENDAR